BEGIN:VCALENDAR
VERSION:2.0
PRODID:-//New England Times - ECPv6.15.20//NONSGML v1.0//EN
CALSCALE:GREGORIAN
METHOD:PUBLISH
X-WR-CALNAME:New England Times
X-ORIGINAL-URL:https://www.netimes.com.au
X-WR-CALDESC:Events for New England Times
REFRESH-INTERVAL;VALUE=DURATION:PT1H
X-Robots-Tag:noindex
X-PUBLISHED-TTL:PT1H
BEGIN:VTIMEZONE
TZID:Australia/Sydney
BEGIN:STANDARD
TZOFFSETFROM:+1100
TZOFFSETTO:+1000
TZNAME:AEST
DTSTART:20250405T160000
END:STANDARD
BEGIN:DAYLIGHT
TZOFFSETFROM:+1000
TZOFFSETTO:+1100
TZNAME:AEDT
DTSTART:20251004T160000
END:DAYLIGHT
BEGIN:STANDARD
TZOFFSETFROM:+1100
TZOFFSETTO:+1000
TZNAME:AEST
DTSTART:20260404T160000
END:STANDARD
BEGIN:DAYLIGHT
TZOFFSETFROM:+1000
TZOFFSETTO:+1100
TZNAME:AEDT
DTSTART:20261003T160000
END:DAYLIGHT
BEGIN:STANDARD
TZOFFSETFROM:+1100
TZOFFSETTO:+1000
TZNAME:AEST
DTSTART:20270403T160000
END:STANDARD
BEGIN:DAYLIGHT
TZOFFSETFROM:+1000
TZOFFSETTO:+1100
TZNAME:AEDT
DTSTART:20271002T160000
END:DAYLIGHT
END:VTIMEZONE
BEGIN:VEVENT
DTSTART;TZID=Australia/Sydney:20260501T173000
DTEND;TZID=Australia/Sydney:20260501T210000
DTSTAMP:20260422T004749
CREATED:20260417T071732Z
LAST-MODIFIED:20260417T071732Z
UID:10001171-1777656600-1777669200@www.netimes.com.au
SUMMARY:Great Southern Nights - Boggabilla: JK-47\, Roger Knox\, KobiDunks
DESCRIPTION:The Great Southern Nights live music initiative across NSW has announced a free show in Boggabilla at The Block on Friday 1st May featuring ARIA Award winning rapper JK-47\, the Koori King of Country AKA Roger Knox\, and local emerging artist KobiDunks. \n  \nThis one’s for the Red Roads — bring your mob\, bring your mates\, bring the energy\, and get ready for a massive night of hip-hop and bounce. Expect heavy bars\, big vibes\, and a community-driven night celebrating music\, culture\, and connection. \n  \nGREAT SOUTHERN NIGHTS – BOGGABILLA: Friday 1st May 2026 \nJK-47\, Roger Knox\, KobiDunks \nThe Block\, Doors open 5.30pm \nRegister for free tickets HERE \nIf you’re a hip hop fan in Australia\, you know the name JK-47. From his 2024 ARIA Award win to his powerful Like A Version of 2Pac’s Changes\, the Indigenous artist has earned his place as one of the country’s most respected voices. Writing and rapping since age fourteen\, JK-47 is known for raw honesty\, vivid storytelling and timeless lyricism. His debut album ‘Made For This’ earned a triple j Feature Album and major award nominations. In this next chapter of his life and artistry\, JK-47 walks with a renewed sense of purpose\, grounded in faith and guided by the teachings passed down from his grandparents and mother\, all devout Christians who shaped his foundations. This return to faith has not erased who he is\, but rather refined him. He remains the same JK-47\, honest\, fearless and sharp with the pen\, yet spiritually transformed and renewed. His music and character now carries a deeper reflection\, accountability and hope\, telling a new story rooted in truth\, healing and growth. It is a testament to his purpose rather than reinvention\, an artist standing firmly in who he has always been\, while boldly sharing where he is now. \nThe Koori King of Country AKA Roger Knox\, is a household name amongst mob in Australia\, known for his deeply soulful honey-soaked baritone voice.  Uncle Roger is a respected First Nations musician and trailblazer whose legacy embodies hope\, healing\, and reconciliation. He is a proud descendant of the Gomeroi Nation\, born in Moree and raised on Toomelah Aboriginal Mission Station near Boggabilla in north-western NSW. A multi-award winning artist\, Roger’s contributions to the music industry have been recognised over three decades including the Tamworth Country Music Galaxy of Stars. \n18yo Boggabilla hip-hop artist KobiDunks released his debut single in late 2025\, being described as a “young Dr. Dre” for his ability to produce\, mix\, and rap\, with his smooth flow focusing on raw\, soulful hip-hop that reflects his culture and lived experience.  With his uniqe sound\, grounded lyrics and unwavering motivation\, KobiDunks is bringing back that old-school flavour through modern beats and fresh energy; and he’s only just getting started.
URL:https://www.netimes.com.au/event/great-southern-nights-boggabilla-jk-47-roger-knox-kobidunks/
LOCATION:The Block\, 33 McCosker Street\, Boggabilla\, NSW\, 2409\, Australia
CATEGORIES:Live music
ATTACH;FMTTYPE=image/jpeg:https://www.netimes.com.au/wp-content/uploads/GSN2026-Boggabilla-JK47-poster.jpg
END:VEVENT
END:VCALENDAR