BEGIN:VCALENDAR
VERSION:2.0
PRODID:-//New England Times - ECPv6.15.20//NONSGML v1.0//EN
CALSCALE:GREGORIAN
METHOD:PUBLISH
X-ORIGINAL-URL:https://www.netimes.com.au
X-WR-CALDESC:Events for New England Times
REFRESH-INTERVAL;VALUE=DURATION:PT1H
X-Robots-Tag:noindex
X-PUBLISHED-TTL:PT1H
BEGIN:VTIMEZONE
TZID:Australia/Sydney
BEGIN:STANDARD
TZOFFSETFROM:+1100
TZOFFSETTO:+1000
TZNAME:AEST
DTSTART:20250405T160000
END:STANDARD
BEGIN:DAYLIGHT
TZOFFSETFROM:+1000
TZOFFSETTO:+1100
TZNAME:AEDT
DTSTART:20251004T160000
END:DAYLIGHT
BEGIN:STANDARD
TZOFFSETFROM:+1100
TZOFFSETTO:+1000
TZNAME:AEST
DTSTART:20260404T160000
END:STANDARD
BEGIN:DAYLIGHT
TZOFFSETFROM:+1000
TZOFFSETTO:+1100
TZNAME:AEDT
DTSTART:20261003T160000
END:DAYLIGHT
BEGIN:STANDARD
TZOFFSETFROM:+1100
TZOFFSETTO:+1000
TZNAME:AEST
DTSTART:20270403T160000
END:STANDARD
BEGIN:DAYLIGHT
TZOFFSETFROM:+1000
TZOFFSETTO:+1100
TZNAME:AEDT
DTSTART:20271002T160000
END:DAYLIGHT
END:VTIMEZONE
BEGIN:VEVENT
DTSTART;TZID=Australia/Sydney:20260703T100000
DTEND;TZID=Australia/Sydney:20260703T120000
DTSTAMP:20260422T033518
CREATED:20260417T004621Z
LAST-MODIFIED:20260417T004621Z
UID:10001119-1783072800-1783080000@www.netimes.com.au
SUMMARY:Circle of Security Parenting Program
DESCRIPTION:Centacare New England North West is bringing the Circle of Security Parenting Program to the Narrabri community. This free evidence-based parenting program helps parents and caregivers understand and meet their child’s emotional needs\, promoting secure attachment. The Circle of Security Parenting Program helps build relationships between parent/caregivers and children through the use of videos and group discussions aimed at reducing challenging behaviours and strengthening the parent-child bond.
URL:https://www.netimes.com.au/event/circle-of-security-parenting-program/2026-07-03/
LOCATION:Centacare Narrabri\, 1/116 Barwan Street\, Narrabri\, New South Wales\, 2340\, Australia
CATEGORIES:Training and courses
ATTACH;FMTTYPE=image/png:https://www.netimes.com.au/wp-content/uploads/Narrabri-Circle-of-Security.png
ORGANIZER;CN="Centacare New England North West":MAILTO:education@centacarenenw.com.au
END:VEVENT
BEGIN:VEVENT
DTSTART;TZID=Australia/Sydney:20260710T100000
DTEND;TZID=Australia/Sydney:20260710T120000
DTSTAMP:20260422T033518
CREATED:20260417T004621Z
LAST-MODIFIED:20260417T004621Z
UID:10001120-1783677600-1783684800@www.netimes.com.au
SUMMARY:Circle of Security Parenting Program
DESCRIPTION:Centacare New England North West is bringing the Circle of Security Parenting Program to the Narrabri community. This free evidence-based parenting program helps parents and caregivers understand and meet their child’s emotional needs\, promoting secure attachment. The Circle of Security Parenting Program helps build relationships between parent/caregivers and children through the use of videos and group discussions aimed at reducing challenging behaviours and strengthening the parent-child bond.
URL:https://www.netimes.com.au/event/circle-of-security-parenting-program/2026-07-10/
LOCATION:Centacare Narrabri\, 1/116 Barwan Street\, Narrabri\, New South Wales\, 2340\, Australia
CATEGORIES:Training and courses
ATTACH;FMTTYPE=image/png:https://www.netimes.com.au/wp-content/uploads/Narrabri-Circle-of-Security.png
ORGANIZER;CN="Centacare New England North West":MAILTO:education@centacarenenw.com.au
END:VEVENT
BEGIN:VEVENT
DTSTART;TZID=Australia/Sydney:20260717T100000
DTEND;TZID=Australia/Sydney:20260717T120000
DTSTAMP:20260422T033518
CREATED:20260417T004621Z
LAST-MODIFIED:20260417T004621Z
UID:10001121-1784282400-1784289600@www.netimes.com.au
SUMMARY:Circle of Security Parenting Program
DESCRIPTION:Centacare New England North West is bringing the Circle of Security Parenting Program to the Narrabri community. This free evidence-based parenting program helps parents and caregivers understand and meet their child’s emotional needs\, promoting secure attachment. The Circle of Security Parenting Program helps build relationships between parent/caregivers and children through the use of videos and group discussions aimed at reducing challenging behaviours and strengthening the parent-child bond.
URL:https://www.netimes.com.au/event/circle-of-security-parenting-program/2026-07-17/
LOCATION:Centacare Narrabri\, 1/116 Barwan Street\, Narrabri\, New South Wales\, 2340\, Australia
CATEGORIES:Training and courses
ATTACH;FMTTYPE=image/png:https://www.netimes.com.au/wp-content/uploads/Narrabri-Circle-of-Security.png
ORGANIZER;CN="Centacare New England North West":MAILTO:education@centacarenenw.com.au
END:VEVENT
BEGIN:VEVENT
DTSTART;TZID=Australia/Sydney:20260724T100000
DTEND;TZID=Australia/Sydney:20260724T120000
DTSTAMP:20260422T033518
CREATED:20260417T004621Z
LAST-MODIFIED:20260417T004621Z
UID:10001122-1784887200-1784894400@www.netimes.com.au
SUMMARY:Circle of Security Parenting Program
DESCRIPTION:Centacare New England North West is bringing the Circle of Security Parenting Program to the Narrabri community. This free evidence-based parenting program helps parents and caregivers understand and meet their child’s emotional needs\, promoting secure attachment. The Circle of Security Parenting Program helps build relationships between parent/caregivers and children through the use of videos and group discussions aimed at reducing challenging behaviours and strengthening the parent-child bond.
URL:https://www.netimes.com.au/event/circle-of-security-parenting-program/2026-07-24/
LOCATION:Centacare Narrabri\, 1/116 Barwan Street\, Narrabri\, New South Wales\, 2340\, Australia
CATEGORIES:Training and courses
ATTACH;FMTTYPE=image/png:https://www.netimes.com.au/wp-content/uploads/Narrabri-Circle-of-Security.png
ORGANIZER;CN="Centacare New England North West":MAILTO:education@centacarenenw.com.au
END:VEVENT
BEGIN:VEVENT
DTSTART;TZID=Australia/Sydney:20260731T100000
DTEND;TZID=Australia/Sydney:20260731T120000
DTSTAMP:20260422T033518
CREATED:20260417T004621Z
LAST-MODIFIED:20260417T004621Z
UID:10001123-1785492000-1785499200@www.netimes.com.au
SUMMARY:Circle of Security Parenting Program
DESCRIPTION:Centacare New England North West is bringing the Circle of Security Parenting Program to the Narrabri community. This free evidence-based parenting program helps parents and caregivers understand and meet their child’s emotional needs\, promoting secure attachment. The Circle of Security Parenting Program helps build relationships between parent/caregivers and children through the use of videos and group discussions aimed at reducing challenging behaviours and strengthening the parent-child bond.
URL:https://www.netimes.com.au/event/circle-of-security-parenting-program/2026-07-31/
LOCATION:Centacare Narrabri\, 1/116 Barwan Street\, Narrabri\, New South Wales\, 2340\, Australia
CATEGORIES:Training and courses
ATTACH;FMTTYPE=image/png:https://www.netimes.com.au/wp-content/uploads/Narrabri-Circle-of-Security.png
ORGANIZER;CN="Centacare New England North West":MAILTO:education@centacarenenw.com.au
END:VEVENT
END:VCALENDAR