BEGIN:VCALENDAR
VERSION:2.0
PRODID:-//New England Times - ECPv6.15.20//NONSGML v1.0//EN
CALSCALE:GREGORIAN
METHOD:PUBLISH
X-ORIGINAL-URL:https://www.netimes.com.au
X-WR-CALDESC:Events for New England Times
REFRESH-INTERVAL;VALUE=DURATION:PT1H
X-Robots-Tag:noindex
X-PUBLISHED-TTL:PT1H
BEGIN:VTIMEZONE
TZID:Australia/Sydney
BEGIN:STANDARD
TZOFFSETFROM:+1100
TZOFFSETTO:+1000
TZNAME:AEST
DTSTART:20250405T160000
END:STANDARD
BEGIN:DAYLIGHT
TZOFFSETFROM:+1000
TZOFFSETTO:+1100
TZNAME:AEDT
DTSTART:20251004T160000
END:DAYLIGHT
BEGIN:STANDARD
TZOFFSETFROM:+1100
TZOFFSETTO:+1000
TZNAME:AEST
DTSTART:20260404T160000
END:STANDARD
BEGIN:DAYLIGHT
TZOFFSETFROM:+1000
TZOFFSETTO:+1100
TZNAME:AEDT
DTSTART:20261003T160000
END:DAYLIGHT
BEGIN:STANDARD
TZOFFSETFROM:+1100
TZOFFSETTO:+1000
TZNAME:AEST
DTSTART:20270403T160000
END:STANDARD
BEGIN:DAYLIGHT
TZOFFSETFROM:+1000
TZOFFSETTO:+1100
TZNAME:AEDT
DTSTART:20271002T160000
END:DAYLIGHT
END:VTIMEZONE
BEGIN:VEVENT
DTSTART;TZID=Australia/Sydney:20260408T190000
DTEND;TZID=Australia/Sydney:20260408T210000
DTSTAMP:20260422T033005
CREATED:20260303T102109Z
LAST-MODIFIED:20260303T102109Z
UID:10001094-1775674800-1775682000@www.netimes.com.au
SUMMARY:The Outback Pops - Narrabri
DESCRIPTION:A Musical Spectacular with the Clarence Valley Orchestra \nPrepare yourself for a sweeping musical journey right here in Narrabri! We invite you to an unforgettable evening featuring a full orchestra\, accompanied by Mirusia Louwerse. Mirusia Louwerse is one of the world’s most celebrated and sought-after sopranos\, renowned for her angelic voice\, captivating stage presence\, and remarkable versatility. Affectionately known as “The Angel of Australia” — a title bestowed upon her by Dutch violinist André Rieu — Mirusia has enchanted millions worldwide over an extraordinary 18-year international career. \nWhether you are a connoisseur of the classics or a lover of modern rhythm\, this concert promises a “wall of sound” experience that only a live orchestra can deliver. \nThe program is designed to delight audiences of all ages\, seamlessly weaving together: \n\nTimeless Classical Favourites: Experience the grandeur of the masters.\nBig Band Hits: Get your toes tapping to the swing and energy of the jazz era.\nShow-Stopping Tunes: Sing along in spirit to the most beloved melodies from Broadway and film.\n\nAccompanied by talented vocalists and soloists\, the Clarence Valley Orchestra is ready to entertain the night away. Don’t miss this chance to witness the magic of live music in a fun-filled\, community atmosphere. Proceeds to Narrabri Rotary Club. \nThe Outback Tour Includes Concerts in the Towns of Glen Innes | Narrabri | Cobar | Broken Hill | Lightning Ridge. \nClarence Valley Orchestra performing in the Postojna Caves on their European tour in Slovenia\, September 2025.
URL:https://www.netimes.com.au/event/the-outback-pops-narrabri/
LOCATION:The Crossing Theatre\, 117 Tibbereena Street\, Narrabri\, NSW\, 2390\, Australia
CATEGORIES:Fundraisers,Live music,Plays and musicals,Social
ATTACH;FMTTYPE=image/jpeg:https://www.netimes.com.au/wp-content/uploads/Mirusia-Outback-Pops-1600x1200-Narrabri-Banner.jpg
ORGANIZER;CN="Clarence Valley Orchestra":MAILTO:cvocmusic@gmail.com
END:VEVENT
BEGIN:VEVENT
DTSTART;TZID=Australia/Sydney:20260407T190000
DTEND;TZID=Australia/Sydney:20260407T210000
DTSTAMP:20260422T033005
CREATED:20260129T080440Z
LAST-MODIFIED:20260129T080440Z
UID:10000967-1775588400-1775595600@www.netimes.com.au
SUMMARY:Outback Pops with Mirusia
DESCRIPTION:https://events.humanitix.com/the-outback-pops-glen-innes
URL:https://www.netimes.com.au/event/outback-pops-with-mirusia/
LOCATION:glen Innes town hall\, 265 Grey St\, Glen Innes\, NSW\, 2370\, Australia
CATEGORIES:Fundraisers,Live music,Social
ATTACH;FMTTYPE=image/jpeg:https://www.netimes.com.au/wp-content/uploads/att.08YV6GyHmMD86clum2WSzcOqUnlpUA14R4A6fv6_5GM.jpeg
ORGANIZER;CN="clarence Valley Orchestra":MAILTO:cvocmusic@gmail.com
END:VEVENT
BEGIN:VEVENT
DTSTART;TZID=Australia/Sydney:20260328T090000
DTEND;TZID=Australia/Sydney:20260329T170000
DTSTAMP:20260422T033005
CREATED:20251119T023512Z
LAST-MODIFIED:20251119T023512Z
UID:10000772-1774688400-1774803600@www.netimes.com.au
SUMMARY:Warbirds Over Scone
DESCRIPTION:Experience the largest warbird airshow in the Southern Hemisphere at Warbirds Over Scone – March 2026 at Scone Airport\, NSW! \n\n\nBuckle up for the ultimate aviation adventure at Warbirds Over Scone – the biggest warbird airshow in the Southern Hemisphere! \nHeld at the iconic Scone Airport in NSW\, this sky-shaking spectacle brings together an incredible lineup of historic and modern aircraft in a non-stop aerial extravaganza. \nWith explosive solo routines\, rare warbirds\, and powerful military displays\, this isn’t just an airshow — it’s a full-throttle tribute to aviation history and power. Warbirds Over Scone is the ultimate bucket-list experience for aviation lovers everywhere. \nWhether you’re a history buff\, aviation enthusiast\, or just looking for a fun day out\, this event is sure to impress. Bring the whole family for a day of excitement and nostalgia in the skies above Scone. \nFrom Spitfires and the Sea Fury to Mustangs and roaring Merlin V12s\, 2026 promises to be the biggest show to date – with more warbirds\, more displays and more to experience than ever before! \nEnjoy world-class aerobatics from the Paul Bennet Airshows Team\, a spectacular festival full of family entertainment\, car & bike show & shine\, local markets\, delicious food\, and all of the incredible static aircraft and displays from the Hunter Warbirds museum onsite to explore! \nDon’t miss out on this unique opportunity to experience the magic of flight and the beauty of these classic aircraft. In the meantime\, check out some of the highlights from the 2024 show below\, and mark your calendars for 2026! \n\n\n\n\nMore than just an airshow\, it’s a full-throttle family festival where the skies roar and the ground buzzes with excitement! \nBut the action doesn’t stop in the air! \nOn the ground\, enjoy a huge family-friendly festival packed with: \n🎡 Kids rides & carnival games (UNLIMITED access for only $15!)\n🍔 Food trucks & gourmet eats\n🛍️ Market stalls & local crafts\n✈️ Hands-on aviation experiences\n🎶 Live entertainment & street performers\n🚒 Fire trucks & Defence displays \n✨Car & Bike Show & Shine \nWhether you’re an aviation buff\, thrill-seeker\, or looking for an unforgettable day out with the family\, Warbirds Over Scone has something for everyone. \nFeel the thunder. Taste the food. Soar with history. \nStrap in. Look up. Feel the thunder. Warbirds Over Scone is where history flies and legends roar! \nThis is Warbirds Over Scone — and you’ve never seen anything like it!
URL:https://www.netimes.com.au/event/warbirds-over-scone/
LOCATION:Scone Airport\, Bunnan Road\, Scone\, NSW\, Australia
CATEGORIES:Entertainment,Festivals,Markets,Social
ATTACH;FMTTYPE=image/jpeg:https://www.netimes.com.au/wp-content/uploads/https___cdn.evbuc_.com_images_1117121483_2794661698371_1_original.jpg
ORGANIZER;CN="Warbirds Over Scone":MAILTO:contact@australianairshows.com.au
END:VEVENT
BEGIN:VEVENT
DTSTART;TZID=Australia/Sydney:20260321T093000
DTEND;TZID=Australia/Sydney:20260322T153000
DTSTAMP:20260422T033005
CREATED:20251106T213308Z
LAST-MODIFIED:20251106T213308Z
UID:10000768-1774085400-1774193400@www.netimes.com.au
SUMMARY:Frisian Whitework Embroidery Workshop with Yvette Stanton
DESCRIPTION:Frisian whitework comes from Friesland in the Netherlands. Frisian whitework samplers often featured alphabet letters in varying sizes and styles\, large and small spot motifs\, and designs for bands. \nLearn the technique of Frisian whitework\, making the Dutch Heart Sampler at a weekend workshop in Walcha NSW\, with internationally renowned whitework expert\, Yvette Stanton. \nIn this class you will learn the basics of Frisian whitework\, including stitches such as satin stitch (regular and diagonal)\, eyelets (single and clustered)\, whipped backstitch\, topwinder stitch and chain stitch. The project is worked in pearl cotton thread on 28 count linen. All levels of proficiency are welcome\, but experience with counted thread work is an advantage.\n \nDATES\nSaturday 21st and Sunday 22nd March 2026\n9:30am to 3:30pm each day \nBookings and more information: https://www.vettycreations.com.au/dutch-heart-class.html\nor phone Yvette on 6714 4708.
URL:https://www.netimes.com.au/event/frisian-whitework-embroidery-workshop-with-yvette-stanton/
CATEGORIES:Social,Training and courses
ATTACH;FMTTYPE=image/jpeg:https://www.netimes.com.au/wp-content/uploads/Frisian-workshop.jpg
ORGANIZER;CN="Yvette Stanton":MAILTO:yvette@vettycreations.com.au
END:VEVENT
END:VCALENDAR